BEGIN:VCALENDAR
VERSION:2.0
PRODID:-//ChamberMaster//Event Calendar 2.0//EN
METHOD:PUBLISH
X-PUBLISHED-TTL:P3D
REFRESH-INTERVAL:P3D
CALSCALE:GREGORIAN
BEGIN:VEVENT
DTSTART:20220421T210000Z
DTEND:20220421T220000Z
X-MICROSOFT-CDO-ALLDAYEVENT:FALSE
SUMMARY:FC Comprehensive Plan Update Public Information Workshop
DESCRIPTION:The Plan Commission staff will be providing information\, answering questions and receiving public comment for the Future of the City of Rochester\, Town of Akron\, Town of Fulton\, Town of Kewanna and Fulton County as a whole.
X-ALT-DESC;FMTTYPE=text/html:<span style="color: rgb(51\, 51\, 51)\; font-family: sans-serif\, Arial\, Verdana\, &quot\;Trebuchet MS&quot\;\; font-size: 13px\; background-color: rgb(255\, 255\, 255)\;">The Plan Commission staff will be providing information\, answering questions and receiving public comment for the Future of the City of Rochester\, Town of Akron\, Town of Fulton\, Town of Kewanna and Fulton County as a whole.</span>
LOCATION:The Community Room @ Kewanna-Union Twp. Fire Station 404 N. Toner Street Kewanna\, IN 46939
UID:e.2765.5913
SEQUENCE:3
DTSTAMP:20260420T073032Z
URL:http://contactrochesterin.chambermaster.com/events/details/fc-comprehensive-plan-update-public-information-workshop-5913
END:VEVENT

END:VCALENDAR
